BEGIN:VCALENDAR
VERSION:2.0
PRODID:-//wp-events-plugin.com//6.6.3//EN
TZID:Europe/Luxembourg
X-WR-TIMEZONE:Europe/Luxembourg
BEGIN:VEVENT
UID:13@ibf.lu
DTSTART:20161025T170000Z
DTEND:20161025T193000Z
DTSTAMP:20170505T064840Z
URL:https://ibf.lu/wp/events/depositary-bank-investor-protection-and-brand
 -consolidation/
SUMMARY:DEPOSITARY BANK INVESTOR PROTECTION AND BRAND CONSOLIDATION
DESCRIPTION:
ATTACH;FMTTYPE=image/jpeg:https://ibf.lu/wp/wp-content/uploads/2017/04/saf
 e.jpg
CATEGORIES:IBF Luxembourg Event
LOCATION:Société Générale (21\, rue d‘Epernay)\, 21\, rue d‘Epernay
 \, Luxembourg\, L-1616
GEO:49.5997756;6.132195899999942
X-APPLE-STRUCTURED-LOCATION;VALUE=URI;X-ADDRESS=21\, rue d‘Epernay\, Luxe
 mbourg\, L-1616\, Luxembourg;X-APPLE-RADIUS=100;X-TITLE=Société Généra
 le (21\, rue d‘Epernay):geo:49.5997756,6.132195899999942
END:VEVENT
END:VCALENDAR